BEGIN:VCALENDAR
VERSION:2.0
PRODID:-//CM Energy - ECPv6.15.20//NONSGML v1.0//EN
CALSCALE:GREGORIAN
METHOD:PUBLISH
X-WR-CALNAME:CM Energy
X-ORIGINAL-URL:https://cm-energy.pl
X-WR-CALDESC:Wydarzenia dla CM Energy
REFRESH-INTERVAL;VALUE=DURATION:PT1H
X-Robots-Tag:noindex
X-PUBLISHED-TTL:PT1H
BEGIN:VTIMEZONE
TZID:Europe/Warsaw
BEGIN:DAYLIGHT
TZOFFSETFROM:+0100
TZOFFSETTO:+0200
TZNAME:CEST
DTSTART:20210328T010000
END:DAYLIGHT
BEGIN:STANDARD
TZOFFSETFROM:+0200
TZOFFSETTO:+0100
TZNAME:CET
DTSTART:20211031T010000
END:STANDARD
BEGIN:DAYLIGHT
TZOFFSETFROM:+0100
TZOFFSETTO:+0200
TZNAME:CEST
DTSTART:20220327T010000
END:DAYLIGHT
BEGIN:STANDARD
TZOFFSETFROM:+0200
TZOFFSETTO:+0100
TZNAME:CET
DTSTART:20221030T010000
END:STANDARD
BEGIN:DAYLIGHT
TZOFFSETFROM:+0100
TZOFFSETTO:+0200
TZNAME:CEST
DTSTART:20230326T010000
END:DAYLIGHT
BEGIN:STANDARD
TZOFFSETFROM:+0200
TZOFFSETTO:+0100
TZNAME:CET
DTSTART:20231029T010000
END:STANDARD
BEGIN:DAYLIGHT
TZOFFSETFROM:+0100
TZOFFSETTO:+0200
TZNAME:CEST
DTSTART:20240331T010000
END:DAYLIGHT
BEGIN:STANDARD
TZOFFSETFROM:+0200
TZOFFSETTO:+0100
TZNAME:CET
DTSTART:20241027T010000
END:STANDARD
BEGIN:DAYLIGHT
TZOFFSETFROM:+0100
TZOFFSETTO:+0200
TZNAME:CEST
DTSTART:20250330T010000
END:DAYLIGHT
BEGIN:STANDARD
TZOFFSETFROM:+0200
TZOFFSETTO:+0100
TZNAME:CET
DTSTART:20251026T010000
END:STANDARD
BEGIN:DAYLIGHT
TZOFFSETFROM:+0100
TZOFFSETTO:+0200
TZNAME:CEST
DTSTART:20260329T010000
END:DAYLIGHT
BEGIN:STANDARD
TZOFFSETFROM:+0200
TZOFFSETTO:+0100
TZNAME:CET
DTSTART:20261025T010000
END:STANDARD
BEGIN:DAYLIGHT
TZOFFSETFROM:+0100
TZOFFSETTO:+0200
TZNAME:CEST
DTSTART:20270328T010000
END:DAYLIGHT
BEGIN:STANDARD
TZOFFSETFROM:+0200
TZOFFSETTO:+0100
TZNAME:CET
DTSTART:20271031T010000
END:STANDARD
END:VTIMEZONE
BEGIN:VEVENT
DTSTART;TZID=Europe/Warsaw:20220429T000000
DTEND;TZID=Europe/Warsaw:20261231T235959
DTSTAMP:20260420T215727
CREATED:20251217T172014Z
LAST-MODIFIED:20260125T163302Z
UID:524-1651190400-1798761599@cm-energy.pl
SUMMARY:Moje Ciepło: Wsparcie dla Nowych Domów do Końca 2026 r.
DESCRIPTION:Program „Moje Ciepło” jest dedykowany właścicielom nowych budynków jednorodzinnych\, a nabór wniosków trwa w trybie ciągłym do 31 grudnia 2026 roku lub do wyczerpania budżetu 600 mln PLN.\nKluczowym warunkiem w 2026 roku będzie wysoka efektywność energetyczna budynku.\nWskaźnik zapotrzebowania na nieodnawialną energię pierwotną (EP) nie może przekraczać 55kWh/(m2 · rok). \n\n\n\n\nRodzaj Pompy Ciepła\nDofinansowanie (Standard)\nDofinansowanie (KDR)\n\n\n\n\nPowietrzna (powietrze-powietrze\, powietrze-woda)\nDo 7 000 PLN (maks. 30% KK).\nDo 7 000 PLN (maks. 45% KK).\n\n\nGruntowa (grunt-woda\, woda-woda)\nDo 21 000 PLN (maks. 30% KK).\nDo 21 000 PLN (maks. 45% KK).\n\n\n\n\n\nWażnym aspektem programu Moje Ciepło jest fakt\, że nie obowiązują w nim kryteria dochodowe. Inwestycja musi dotyczyć zakupu i montażu fabrycznie nowych pomp ciepła (wyprodukowanych nie wcześniej niż 24 miesiące przed montażem)\, a ich uruchomienie musi nastąpić przed złożeniem wniosku.
URL:https://cm-energy.pl/wydarzenia/moje-cieplo-wsparcie-dla-nowych-domow-do-konca-2026-r/
ATTACH;FMTTYPE=image/png:https://cm-energy.pl/wp-content/uploads/2025/12/Zrzut-ekranu-2026-01-25-173207.png
END:VEVENT
END:VCALENDAR